BEGIN:VCALENDAR
VERSION:2.0
PRODID:-//Shepherd Center - ECPv6.15.16//NONSGML v1.0//EN
CALSCALE:GREGORIAN
METHOD:PUBLISH
X-WR-CALNAME:Shepherd Center
X-ORIGINAL-URL:https://www.shepherd.dev.dvcl.cc
X-WR-CALDESC:Events for Shepherd Center
REFRESH-INTERVAL;VALUE=DURATION:PT1H
X-Robots-Tag:noindex
X-PUBLISHED-TTL:PT1H
BEGIN:VTIMEZONE
TZID:America/New_York
BEGIN:DAYLIGHT
TZOFFSETFROM:-0500
TZOFFSETTO:-0400
TZNAME:EDT
DTSTART:20240310T070000
END:DAYLIGHT
BEGIN:STANDARD
TZOFFSETFROM:-0400
TZOFFSETTO:-0500
TZNAME:EST
DTSTART:20241103T060000
END:STANDARD
BEGIN:DAYLIGHT
TZOFFSETFROM:-0500
TZOFFSETTO:-0400
TZNAME:EDT
DTSTART:20250309T070000
END:DAYLIGHT
BEGIN:STANDARD
TZOFFSETFROM:-0400
TZOFFSETTO:-0500
TZNAME:EST
DTSTART:20251102T060000
END:STANDARD
BEGIN:DAYLIGHT
TZOFFSETFROM:-0500
TZOFFSETTO:-0400
TZNAME:EDT
DTSTART:20260308T070000
END:DAYLIGHT
BEGIN:STANDARD
TZOFFSETFROM:-0400
TZOFFSETTO:-0500
TZNAME:EST
DTSTART:20261101T060000
END:STANDARD
END:VTIMEZONE
BEGIN:VEVENT
DTSTART;TZID=America/New_York:20250809T000000
DTEND;TZID=America/New_York:20250809T235959
DTSTAMP:20260421T064703
CREATED:20250328T233646Z
LAST-MODIFIED:20250703T180511Z
UID:10001693-1754697600-1754783999@www.shepherd.dev.dvcl.cc
SUMMARY:August Adaptive Water Ski Clinic
DESCRIPTION:Held at Lake Allatoona in Acworth\, GA\, this clinic is hosted by Shepherd Center and local disabled athletes to learn the basics of waterskiing. This clinic offers educational and hands-on demonstrations of adaptive water skiing. Please note that there is a 200-lb weight limit due to equipment capacity.Clinic times will be shared closer to the event date.The $20 fee includes instruction and equipment. Registration opens six weeks before the event. Registration is required for all events and opens at least six weeks prior to the start of the class or course. Most courses require a small fee; however\, financial assistance is available. Please contact Katie Harmon at katie.harmon@shepherd.org for more information regarding requirements for financial assistance. \n\n\n\n	\n																			\n												\n							Register on CampDoc
URL:https://www.shepherd.dev.dvcl.cc/event/water-ski-clinic-2/
LOCATION:Lake Allatoona\, Acworth\, GA\, United States
CATEGORIES:Health & Wellness Clinics
ATTACH;FMTTYPE=image/jpeg:https://www.shepherd.dev.dvcl.cc/wp-content/uploads/2025/01/SC-adventure-camp-469-1-scaled.jpg
END:VEVENT
BEGIN:VEVENT
DTSTART;TZID=America/New_York:20250719T000000
DTEND;TZID=America/New_York:20250719T235959
DTSTAMP:20260421T064704
CREATED:20250328T223910Z
LAST-MODIFIED:20250703T154811Z
UID:10001692-1752883200-1752969599@www.shepherd.dev.dvcl.cc
SUMMARY:July Adaptive Water Ski Clinic
DESCRIPTION:Held at Lake Allatoona in Acworth\, GA\, this clinic is hosted by Shepherd Center and local disabled athletes to learn the basics of waterskiing. This clinic offers educational and hands-on demonstrations of adaptive water skiing. Please note that there is a 200-lb weight limit due to equipment capacity.The clinic time will be shared closer to the event date.The $20 fee includes instruction and equipment.Registration opens six weeks before the event. Registration is required for all events and opens at least six weeks prior to the start of the class or course. Most courses require a small fee; however\, financial assistance is available. Please contact Katie Harmon at katie.harmon@shepherd.org for more information regarding requirements for financial assistance.
URL:https://www.shepherd.dev.dvcl.cc/event/water-ski-clinic/
LOCATION:Lake Allatoona\, Acworth\, GA\, United States
CATEGORIES:Health & Wellness Clinics
ATTACH;FMTTYPE=image/jpeg:https://www.shepherd.dev.dvcl.cc/wp-content/uploads/2025/01/SC-adventure-camp-469-1-scaled.jpg
END:VEVENT
END:VCALENDAR